BEGIN:VCALENDAR
VERSION:2.0
PRODID:-//Tow Law Community Association - ECPv6.15.17.1//NONSGML v1.0//EN
CALSCALE:GREGORIAN
METHOD:PUBLISH
X-WR-CALNAME:Tow Law Community Association
X-ORIGINAL-URL:https://towlawcommunitycentre.org
X-WR-CALDESC:Events for Tow Law Community Association
REFRESH-INTERVAL;VALUE=DURATION:PT1H
X-Robots-Tag:noindex
X-PUBLISHED-TTL:PT1H
BEGIN:VTIMEZONE
TZID:Europe/London
BEGIN:DAYLIGHT
TZOFFSETFROM:+0000
TZOFFSETTO:+0100
TZNAME:BST
DTSTART:20250330T010000
END:DAYLIGHT
BEGIN:STANDARD
TZOFFSETFROM:+0100
TZOFFSETTO:+0000
TZNAME:GMT
DTSTART:20251026T010000
END:STANDARD
BEGIN:DAYLIGHT
TZOFFSETFROM:+0000
TZOFFSETTO:+0100
TZNAME:BST
DTSTART:20260329T010000
END:DAYLIGHT
BEGIN:STANDARD
TZOFFSETFROM:+0100
TZOFFSETTO:+0000
TZNAME:GMT
DTSTART:20261025T010000
END:STANDARD
BEGIN:DAYLIGHT
TZOFFSETFROM:+0000
TZOFFSETTO:+0100
TZNAME:BST
DTSTART:20270328T010000
END:DAYLIGHT
BEGIN:STANDARD
TZOFFSETFROM:+0100
TZOFFSETTO:+0000
TZNAME:GMT
DTSTART:20271031T010000
END:STANDARD
END:VTIMEZONE
BEGIN:VEVENT
DTSTART;TZID=Europe/London:20260422T120000
DTEND;TZID=Europe/London:20260422T150000
DTSTAMP:20260422T015841
CREATED:20250422T140853Z
LAST-MODIFIED:20250422T140853Z
UID:10000770-1776859200-1776870000@towlawcommunitycentre.org
SUMMARY:Bread & Butter Thing
DESCRIPTION:
URL:https://towlawcommunitycentre.org/event/bread-butter-thing/2026-04-22/
LOCATION:Tow Law Community Centre\, Ironworks Rd\, Tow Law\, Bishop Auckland DL13 4AW\, Tow Law\, Durham\, DL13 4AW\, United Kingdom
ORGANIZER;CN="Tow Law Community Association":MAILTO:towlawca@hotmail.co.uk
END:VEVENT
BEGIN:VEVENT
DTSTART;TZID=Europe/London:20260422T130000
DTEND;TZID=Europe/London:20260422T160000
DTSTAMP:20260422T015841
CREATED:20250506T114531Z
LAST-MODIFIED:20250506T114531Z
UID:10003610-1776862800-1776873600@towlawcommunitycentre.org
SUMMARY:Town Clerk
DESCRIPTION:
URL:https://towlawcommunitycentre.org/event/town-clerk/2026-04-22/
LOCATION:Tow Law Community Centre\, Ironworks Rd\, Tow Law\, Bishop Auckland DL13 4AW\, Tow Law\, Durham\, DL13 4AW\, United Kingdom
ATTACH;FMTTYPE=image/jpeg:https://towlawcommunitycentre.org/wp-content/uploads/2025/05/IMG_4584-1-scaled.jpg
ORGANIZER;CN="Tow Law Community Association":MAILTO:towlawca@hotmail.co.uk
END:VEVENT
BEGIN:VEVENT
DTSTART;TZID=Europe/London:20260422T130000
DTEND;TZID=Europe/London:20260422T163000
DTSTAMP:20260422T015841
CREATED:20250422T143114Z
LAST-MODIFIED:20250422T143315Z
UID:10001031-1776862800-1776875400@towlawcommunitycentre.org
SUMMARY:Art Group
DESCRIPTION:
URL:https://towlawcommunitycentre.org/event/art-group/2026-04-22/
LOCATION:Tow Law Community Centre\, Ironworks Rd\, Tow Law\, Bishop Auckland DL13 4AW\, Tow Law\, Durham\, DL13 4AW\, United Kingdom
ATTACH;FMTTYPE=image/jpeg:https://towlawcommunitycentre.org/wp-content/uploads/2025/04/Tow-Law-Community-Centre-Pics-March-2025-209-min-scaled.jpg
ORGANIZER;CN="Tow Law Community Association":MAILTO:towlawca@hotmail.co.uk
END:VEVENT
BEGIN:VEVENT
DTSTART;TZID=Europe/London:20260422T190000
DTEND;TZID=Europe/London:20260422T210000
DTSTAMP:20260422T015841
CREATED:20250422T143737Z
LAST-MODIFIED:20250422T143737Z
UID:10001292-1776884400-1776891600@towlawcommunitycentre.org
SUMMARY:Dog Training
DESCRIPTION:
URL:https://towlawcommunitycentre.org/event/dog-training/2026-04-22/
LOCATION:Tow Law Community Centre\, Ironworks Rd\, Tow Law\, Bishop Auckland DL13 4AW\, Tow Law\, Durham\, DL13 4AW\, United Kingdom
ORGANIZER;CN="Tow Law Community Association":MAILTO:towlawca@hotmail.co.uk
END:VEVENT
END:VCALENDAR